BEGIN:VCALENDAR
VERSION:2.0
PRODID:Events Booking
BEGIN:VEVENT
UID:69e5789fa1956
SUMMARY:Pioneer Day Membership Drive and Networking Event
DESCRIPTION:&nbsp\;
 Save the Date!
 Utah PCC Pioneer Day
 Membership Dr
 ive and Networking Event
 Friday\, July 24\, 2026
 
DTSTART:20260724T170000Z
DTEND:20260724T180000Z
DTSTAMP:20251227T023455Z
ORGANIZER;CN=Utah Postal Customer Council:MAILTO:registration@utahpcc.com
END:VEVENT
END:VCALENDAR