BEGIN:VCALENDAR
VERSION:2.0
PRODID:Events Booking
BEGIN:VEVENT
UID:69e579e31c836
SUMMARY:National PCC Week 2026
DESCRIPTION:&nbsp\;
 SAVE THE DATE!
 NATIONAL PCC WEEK 2026
 Thursday\, 
 October 1\, 202611:00 AM - 3:00 PM
 DoubleTree Suites by Hilton Hotel Sal
 t Lake City&nbsp\;Downtown&nbsp\;110 W 600 SSalt Lake City\, UT 84101&nbsp
 \;
 Join the Utah PCC for our 2026 National PCC Week Event:
 11:00 AM-12
 :00 PM&nbsp\;USPS Keynote Speaker:&nbsp\;12:00-1:00 PM&nbsp\;Lunch and Net
 working:Catered by DoubleTree Suites Hilton&nbsp\;1:00-3:00 PM&nbsp\;After
 noon Workshop Sessions:&nbsp\;&nbsp\;&nbsp\;&nbsp\;
 
LOCATION:110 W 600 S\, Salt Lake City\, UT 84101\, USA
DTSTART:20261002T170000Z
DTEND:20261002T210000Z
DTSTAMP:20251227T022109Z
ORGANIZER;CN=Utah Postal Customer Council:MAILTO:registration@utahpcc.com
GEO:40.756831;-111.894749
X-APPLE-STRUCTURED-LOCATION;VALUE=URI;X-ADDRESS=110 W 600 S\, Salt Lake Cit
 y\, UT 84101\, USA;X-APPLE-RADIUS=72;X-TITLE=Double Tree Suites Hilton Dow
 ntown Salt Lake City:40.756831;-111.894749
END:VEVENT
END:VCALENDAR