BEGIN:VCALENDAR
VERSION:2.0
PRODID:Events Booking
BEGIN:VEVENT
UID:69e5ae3b28e75
SUMMARY:National PCC Week 2024
DESCRIPTION:
 
 NATIONAL PCC WEEK 2024
 Thursday\, September 26\, 202411
 :00 AM - 2:00 PM
 DoubleTree Suites by Hilton Hotel Salt Lake City&nbsp\;
 Downtown&nbsp\;110 W 600 SSalt Lake City\, UT 84101&nbsp\;
 Join the Utah
  PCC for our 2024 National PCC Week Event:
 11:00 AM-12:00 PM&nbsp\;USPS 
 HQ Keynote Speaker:
 Vice President\, Technology Applications: Angela Law
 son&nbsp\;
 12:00-1:00 PM&nbsp\;Lunch:Catered by DoubleTree Suites Hilton
 &nbsp\;1:00-2:00 PM&nbsp\;Afternoon Breakout Workshop Sessions:&nbsp\;USPS
  Shipping 101&nbsp\;BME - eDoc Adoption/Mailer Scorecard&nbsp\;
 
LOCATION:110 W 600 S\, Salt Lake City\, UT 84101\, USA
DTSTART:20240926T170000Z
DTEND:20240926T210000Z
DTSTAMP:20230822T025057Z
ORGANIZER;CN=Utah Postal Customer Council:MAILTO:registration@utahpcc.com
GEO:40.756831;-111.894749
X-APPLE-STRUCTURED-LOCATION;VALUE=URI;X-ADDRESS=110 W 600 S\, Salt Lake Cit
 y\, UT 84101\, USA;X-APPLE-RADIUS=72;X-TITLE=Double Tree Suites Hilton Dow
 ntown Salt Lake City:40.756831;-111.894749
END:VEVENT
END:VCALENDAR